BEGIN:VCALENDAR
VERSION:2.0
PRODID:-//Universo Relíquias - ECPv6.15.17//NONSGML v1.0//EN
CALSCALE:GREGORIAN
METHOD:PUBLISH
X-WR-CALNAME:Universo Relíquias
X-ORIGINAL-URL:https://universoreliquias.com.br
X-WR-CALDESC:Eventos para Universo Relíquias
REFRESH-INTERVAL;VALUE=DURATION:PT1H
X-Robots-Tag:noindex
X-PUBLISHED-TTL:PT1H
BEGIN:VTIMEZONE
TZID:America/Sao_Paulo
BEGIN:STANDARD
TZOFFSETFROM:-0300
TZOFFSETTO:-0300
TZNAME:-03
DTSTART:20240101T000000
END:STANDARD
END:VTIMEZONE
BEGIN:VEVENT
DTSTART;TZID=America/Sao_Paulo:20251106T080000
DTEND;TZID=America/Sao_Paulo:20251109T170000
DTSTAMP:20260420T132833
CREATED:20250219T202957Z
LAST-MODIFIED:20250219T202957Z
UID:2227-1762416000-1762707600@universoreliquias.com.br
SUMMARY:15° Volks Kuque em Rio Negrinho - SC
DESCRIPTION:15° Volks Kuque em Rio Negrinho – SC\nVolks Kuque 2025 15• Edição ✨ \nDias 6\, 7\, 8 e 9 de Novembro \nLocal: Fazenda Evaristo\, Rio Negrinho\, SC 🌲\nInformações: (41) 995147984 \n#aircooled #encontro
URL:https://universoreliquias.com.br/evento/15-volks-kuque-em-rio-negrinho-sc/
LOCATION:FAZENDA EVARISTO – RIO NEGRINHO – SC\, R. Afonso Koehler\, 3705 - Rio dos Bugres\, Rio Negrinho\, SC\, 89296776\, Brazil
CATEGORIES:Veículos Antigos
ATTACH;FMTTYPE=image/png:https://universoreliquias.com.br/wp-content/uploads/2025/02/6-a-9-15°-Volks-Kuque-em-Rio-Negrinho-SC.png
END:VEVENT
END:VCALENDAR