BEGIN:VCALENDAR
VERSION:2.0
PRODID:-//Universo Relíquias - ECPv6.15.17//NONSGML v1.0//EN
CALSCALE:GREGORIAN
METHOD:PUBLISH
X-WR-CALNAME:Universo Relíquias
X-ORIGINAL-URL:https://universoreliquias.com.br
X-WR-CALDESC:Eventos para Universo Relíquias
REFRESH-INTERVAL;VALUE=DURATION:PT1H
X-Robots-Tag:noindex
X-PUBLISHED-TTL:PT1H
BEGIN:VTIMEZONE
TZID:America/Sao_Paulo
BEGIN:STANDARD
TZOFFSETFROM:-0300
TZOFFSETTO:-0300
TZNAME:-03
DTSTART:20240101T000000
END:STANDARD
END:VTIMEZONE
BEGIN:VEVENT
DTSTART;TZID=America/Sao_Paulo:20250330T090000
DTEND;TZID=America/Sao_Paulo:20250330T170000
DTSTAMP:20260422T072507
CREATED:20250212T171348Z
LAST-MODIFIED:20250212T171438Z
UID:1778-1743325200-1743354000@universoreliquias.com.br
SUMMARY:2° Encontro de Veículos Antigos em Cacique Double - RS
DESCRIPTION:2° Encontro de Veículos Antigos em Cacique Double – RS \nAnotem na agenda já temos a data do nosso 2º encontro de veículos antigos de Cacique Doble – RS.
URL:https://universoreliquias.com.br/evento/2-encontro-de-veiculos-antigos-em-cacique-double-rs/
LOCATION:Cacique Double – RS\, Cacique Double\, RS\, 99860-000\, Brazil
CATEGORIES:Veículos Antigos
ATTACH;FMTTYPE=image/png:https://universoreliquias.com.br/wp-content/uploads/2025/02/30-2°-Encontro-de-Veiculos-Antigos-em-Cacique-Double-RS.png
END:VEVENT
END:VCALENDAR