BEGIN:VCALENDAR
VERSION:2.0
PRODID:-//Universo Relíquias - ECPv6.15.17//NONSGML v1.0//EN
CALSCALE:GREGORIAN
METHOD:PUBLISH
X-WR-CALNAME:Universo Relíquias
X-ORIGINAL-URL:https://universoreliquias.com.br
X-WR-CALDESC:Eventos para Universo Relíquias
REFRESH-INTERVAL;VALUE=DURATION:PT1H
X-Robots-Tag:noindex
X-PUBLISHED-TTL:PT1H
BEGIN:VTIMEZONE
TZID:America/Sao_Paulo
BEGIN:STANDARD
TZOFFSETFROM:-0300
TZOFFSETTO:-0300
TZNAME:-03
DTSTART:20240101T000000
END:STANDARD
END:VTIMEZONE
BEGIN:VEVENT
DTSTART;TZID=America/Sao_Paulo:20250828T080000
DTEND;TZID=America/Sao_Paulo:20250831T170000
DTSTAMP:20260421T005225
CREATED:20250227T201155Z
LAST-MODIFIED:20250227T201445Z
UID:2384-1756368000-1756659600@universoreliquias.com.br
SUMMARY:21° Blue Cloud - Encontro Internacional de Veículos DKW-Vemag em Poços de Caldas - MG
DESCRIPTION:21° Blue Cloud – Encontro Internacional de Veículos DKW-Vemag em Poços de Caldas – MG\nVEM AI O 21° BLUE CLOUD.\nENCONTRO INTERNACIONAL DE VEÍCULOS DKW VEMAG\nO ENCONTRO MONOMARCA MAIS BACANA DO BRASIL.\nO RIO DE JANEIRO VAI ESTAR ENTRE AS MONTANHAS MAIS CHARMOSAS DO SUL DAS GERAIS! POÇOS DE CALDAS!!!\nGATRONOMIA\,CULTURA \, MÚSICA \,ANTGUIDADES.\nMAÍS DE UMA CENTENA DE MODELOS DE CARROS ESPECIAS\, EM 4 DIAS DE FESTA PARA A FAMILIA DEKAWEANA\, AFICIONADOS POR ANTIGOS\, TURISTAS E A COMUNIDADE LOCAL!!\nIMPERDÍVEL!\nSALVE A DATA!!!\n28 a 31 DE AGOSTO DE 2025\nInscrição: R$  300\,00 \nA inscrição dá direito a 1 (um) kit de participação (camisa polo masculina\, camisa polo feminina\, 1 letreiro luminoso Blue Cloud\,  certificados\, adesivos\, cartaz\, crachá e estacionamento com serviço de segurança 24 horas.\nCada inscrição dá direito ao estacionamento de dois veículos do mesmo proprietário.
URL:https://universoreliquias.com.br/evento/21-blue-cloud-encontro-internacional-de-veiculos-dkw-vemag-em-pocos-de-caldas-mg/
LOCATION:Parque José Affonso Junqueira – Palace Hotel – Poçosde Caldas – MG\, Av. Francisco Salles\, s/nº - Centro\, Poços de Caldas\, MG\, 37701003\, Brazil
CATEGORIES:Veículos Antigos
ATTACH;FMTTYPE=image/png:https://universoreliquias.com.br/wp-content/uploads/2025/02/28-a-31-Agosto-21°-Blue-Cold-Pocos-de-Caldas-MG.png
ORGANIZER;CN="Blueclouddkw - Po%C3%A7os de Caldas - MG":MAILTO:dkwbcpc@gmail.com
END:VEVENT
END:VCALENDAR