BEGIN:VCALENDAR
VERSION:2.0
PRODID:-//Universo Relíquias - ECPv6.15.17//NONSGML v1.0//EN
CALSCALE:GREGORIAN
METHOD:PUBLISH
X-WR-CALNAME:Universo Relíquias
X-ORIGINAL-URL:https://universoreliquias.com.br
X-WR-CALDESC:Eventos para Universo Relíquias
REFRESH-INTERVAL;VALUE=DURATION:PT1H
X-Robots-Tag:noindex
X-PUBLISHED-TTL:PT1H
BEGIN:VTIMEZONE
TZID:America/Sao_Paulo
BEGIN:STANDARD
TZOFFSETFROM:-0300
TZOFFSETTO:-0300
TZNAME:-03
DTSTART:20240101T000000
END:STANDARD
END:VTIMEZONE
BEGIN:VEVENT
DTSTART;TZID=America/Sao_Paulo:20250711T080000
DTEND;TZID=America/Sao_Paulo:20250713T170000
DTSTAMP:20260423T110137
CREATED:20250218T232442Z
LAST-MODIFIED:20250218T232442Z
UID:2148-1752220800-1752426000@universoreliquias.com.br
SUMMARY:21° Encontro de Carros Antigos em Capivari - SP
DESCRIPTION:21° Encontro de Carros Antigos em Capivari – SP\nQuem aí esta ansioso para o Encontro deste ano ?\nÉ com muita alegria que anunciamos o 21° Encontro de Carros Antigos de Capivari.\nJá salva aí na sua agenda\, dias 11\, 12 e 13 de Julho de 2025.\nUm dos maiores eventos de antigomobilismo da região e muitos carros Antigos.\nFiquem ligados em nossas redes sociais\, que em breve traremos mais informações de tudo que vai rolar nessa 21° edição.\nLocal: Praça central de Capirari – SP\nShows ao vivo\nPraça de Alimentação\nSorteio de Brindes\nMercado de Pulgas\nTroféu para os expositores\nExpositores 2kg de alimento ou 2kg de ração pet ou R$20\,00\ninformações: 19 99756-0337
URL:https://universoreliquias.com.br/evento/21-encontro-de-carros-antigos-em-capivari-sp/
LOCATION:Praça central de Capirari – SP\, R. Reg. Feijó\, 251-267 - Centro\, Capivari - SP\, 13360-000\, Capivari\, SP\, 13360000\, Brazil
CATEGORIES:Mercado de Pulgas,Veículos Antigos
ATTACH;FMTTYPE=image/png:https://universoreliquias.com.br/wp-content/uploads/2025/02/11-a-13-21°-Encontro-de-Carros-Antigos-em-Capivari-SP.png
END:VEVENT
END:VCALENDAR