BEGIN:VCALENDAR
VERSION:2.0
PRODID:-//Universo Relíquias - ECPv6.15.17//NONSGML v1.0//EN
CALSCALE:GREGORIAN
METHOD:PUBLISH
X-WR-CALNAME:Universo Relíquias
X-ORIGINAL-URL:https://universoreliquias.com.br
X-WR-CALDESC:Eventos para Universo Relíquias
REFRESH-INTERVAL;VALUE=DURATION:PT1H
X-Robots-Tag:noindex
X-PUBLISHED-TTL:PT1H
BEGIN:VTIMEZONE
TZID:America/Sao_Paulo
BEGIN:STANDARD
TZOFFSETFROM:-0300
TZOFFSETTO:-0300
TZNAME:-03
DTSTART:20240101T000000
END:STANDARD
END:VTIMEZONE
BEGIN:VEVENT
DTSTART;VALUE=DATE:20250405
DTEND;VALUE=DATE:20250406
DTSTAMP:20260422T142121
CREATED:20250212T181106Z
LAST-MODIFIED:20250212T181106Z
UID:1800-1743811200-1743897599@universoreliquias.com.br
SUMMARY:23° Mustang Meeting em Curitiba - PR
DESCRIPTION:23° Mustang Meeting em Curitiba – PR\nData: 5 de abril de 2025 – sábado\nHorário:\nLocal: Em breve mais informações\n Cidade: Curitiba\, PR
URL:https://universoreliquias.com.br/evento/23-mustang-meeting-em-curitiba-pr/
CATEGORIES:Veículos Antigos
ATTACH;FMTTYPE=image/png:https://universoreliquias.com.br/wp-content/uploads/2025/02/5-23°-Mustang-Meeting-em-Curitiba-PR.png
END:VEVENT
END:VCALENDAR