BEGIN:VCALENDAR
VERSION:2.0
PRODID:-//Universo Relíquias - ECPv6.15.17//NONSGML v1.0//EN
CALSCALE:GREGORIAN
METHOD:PUBLISH
X-WR-CALNAME:Universo Relíquias
X-ORIGINAL-URL:https://universoreliquias.com.br
X-WR-CALDESC:Eventos para Universo Relíquias
REFRESH-INTERVAL;VALUE=DURATION:PT1H
X-Robots-Tag:noindex
X-PUBLISHED-TTL:PT1H
BEGIN:VTIMEZONE
TZID:America/Sao_Paulo
BEGIN:STANDARD
TZOFFSETFROM:-0300
TZOFFSETTO:-0300
TZNAME:-03
DTSTART:20240101T000000
END:STANDARD
END:VTIMEZONE
BEGIN:VEVENT
DTSTART;TZID=America/Sao_Paulo:20250828T080000
DTEND;TZID=America/Sao_Paulo:20250831T170000
DTSTAMP:20260421T044018
CREATED:20250219T174629Z
LAST-MODIFIED:20250219T174629Z
UID:2182-1756368000-1756659600@universoreliquias.com.br
SUMMARY:24° Encontro do Automóvel Antigo em Juiz de Fora - MG
DESCRIPTION:24° Encontro do Automóvel Antigo em Juiz de Fora – MG\nInstituto Cultural – Clube do Automóvel Antigo de Juiz de Fora\n\n🚘 Valorização da cultura através da preservação dos veículos antigos\n📆 Fundado em 1990 – Primeiro clube de veículos antigos de Juiz de Fora – MG
URL:https://universoreliquias.com.br/evento/24-encontro-do-automovel-antigo-em-juiz-de-fora-mg/
LOCATION:Universidade Federal de Juiz de Fora – MG\, Campus Universitário\, Rua José Lourenço Kelmer\, s/n - São Pedro\, Juiz de Fora - MG\, 36036-900\, Juiz de Fora\, MG\, 36036900\, Brazil
CATEGORIES:Veículos Antigos
ATTACH;FMTTYPE=image/png:https://universoreliquias.com.br/wp-content/uploads/2025/02/28-a-31-24°-Encontro-do-Automovel-Antigo-em-Juiz-de-Fora-MG.png
END:VEVENT
END:VCALENDAR