BEGIN:VCALENDAR
VERSION:2.0
PRODID:-//Universo Relíquias - ECPv6.15.17//NONSGML v1.0//EN
CALSCALE:GREGORIAN
METHOD:PUBLISH
X-WR-CALNAME:Universo Relíquias
X-ORIGINAL-URL:https://universoreliquias.com.br
X-WR-CALDESC:Eventos para Universo Relíquias
REFRESH-INTERVAL;VALUE=DURATION:PT1H
X-Robots-Tag:noindex
X-PUBLISHED-TTL:PT1H
BEGIN:VTIMEZONE
TZID:America/Sao_Paulo
BEGIN:STANDARD
TZOFFSETFROM:-0300
TZOFFSETTO:-0300
TZNAME:-03
DTSTART:20240101T000000
END:STANDARD
END:VTIMEZONE
BEGIN:VEVENT
DTSTART;TZID=America/Sao_Paulo:20250313T080000
DTEND;TZID=America/Sao_Paulo:20250315T160000
DTSTAMP:20260422T055650
CREATED:20250108T012318Z
LAST-MODIFIED:20250211T143136Z
UID:926-1741852800-1742054400@universoreliquias.com.br
SUMMARY:3º Encontro de FNM e Caminhões Antigos Ourinhos - SP
DESCRIPTION:
URL:https://universoreliquias.com.br/evento/3o-encontro-de-fnm-e-caminhoes-antigos-ourinhos-sp/
LOCATION:Arena Golden\, Av. Otávio Grandini - Distrito Industrial Dr. Helio Silva\, Ourinhos\, Sao Paulo\, Brazil
CATEGORIES:Veículos Antigos
ATTACH;FMTTYPE=image/png:https://universoreliquias.com.br/wp-content/uploads/2025/01/13-a-15-3°-Encontro-de-FNM-e-Caminhoes-Antigos-em-Ourinhos-SP-1.png
END:VEVENT
END:VCALENDAR