BEGIN:VCALENDAR
VERSION:2.0
PRODID:-//Universo Relíquias - ECPv6.15.17//NONSGML v1.0//EN
CALSCALE:GREGORIAN
METHOD:PUBLISH
X-WR-CALNAME:Universo Relíquias
X-ORIGINAL-URL:https://universoreliquias.com.br
X-WR-CALDESC:Eventos para Universo Relíquias
REFRESH-INTERVAL;VALUE=DURATION:PT1H
X-Robots-Tag:noindex
X-PUBLISHED-TTL:PT1H
BEGIN:VTIMEZONE
TZID:America/Sao_Paulo
BEGIN:STANDARD
TZOFFSETFROM:-0300
TZOFFSETTO:-0300
TZNAME:-03
DTSTART:20240101T000000
END:STANDARD
END:VTIMEZONE
BEGIN:VEVENT
DTSTART;TZID=America/Sao_Paulo:20250119T080000
DTEND;TZID=America/Sao_Paulo:20250119T160000
DTSTAMP:20260419T092317
CREATED:20241221T105741Z
LAST-MODIFIED:20241221T105741Z
UID:774-1737273600-1737302400@universoreliquias.com.br
SUMMARY:7º Encontro de Fusca
DESCRIPTION:O 7° Encontro de Fusca será realizado no dia 19 de janeiro de 2025 (domingo) em Embu-Guaçu\, SP. O encontro conta com exposição de carros antigos\, triciclos e motos\, além de premiações para todas as equipes participantes. \nA entrada será mediante a doação de 2 kg de alimentos não perecíveis. Para mais informações\, os interessados podem entrar em contato pelo telefone (11) 94359-9616.
URL:https://universoreliquias.com.br/evento/7o-encontro-de-fusca/
LOCATION:Fusca Clube Rota 116\, Rod. José Simões Louro Junior – Estrada da Mina de Ouro Rod. Bento Rotger Domingues e Rua Sebastião de Souza – Bairro Itararé\, Embu-Guaçú\, São Paulo\, 06910-520\, Brazil
CATEGORIES:Veículos Antigos
ATTACH;FMTTYPE=image/png:https://universoreliquias.com.br/wp-content/uploads/2024/12/evento-7.png
END:VEVENT
END:VCALENDAR