BEGIN:VCALENDAR
VERSION:2.0
PRODID:-//Universo Relíquias - ECPv6.15.17//NONSGML v1.0//EN
CALSCALE:GREGORIAN
METHOD:PUBLISH
X-WR-CALNAME:Universo Relíquias
X-ORIGINAL-URL:https://universoreliquias.com.br
X-WR-CALDESC:Eventos para Universo Relíquias
REFRESH-INTERVAL;VALUE=DURATION:PT1H
X-Robots-Tag:noindex
X-PUBLISHED-TTL:PT1H
BEGIN:VTIMEZONE
TZID:America/Sao_Paulo
BEGIN:STANDARD
TZOFFSETFROM:-0300
TZOFFSETTO:-0300
TZNAME:-03
DTSTART:20240101T000000
END:STANDARD
END:VTIMEZONE
BEGIN:VEVENT
DTSTART;TZID=America/Sao_Paulo:20251026T080000
DTEND;TZID=America/Sao_Paulo:20251026T170000
DTSTAMP:20260420T152119
CREATED:20250219T200339Z
LAST-MODIFIED:20250219T200339Z
UID:2221-1761465600-1761498000@universoreliquias.com.br
SUMMARY:8° Encontro de Carros Antigos em Araricá - RS
DESCRIPTION:8° Encontro de Carros Antigos em Araricá – RS\nInformações: (51) 99968-2028
URL:https://universoreliquias.com.br/evento/8-encontro-de-carros-antigos-em-ararica-rs/
LOCATION:Araricá – RS\, Araricá - RS\, Araricá\, RS\, 93880000\, Brazil
CATEGORIES:Veículos Antigos
ATTACH;FMTTYPE=image/png:https://universoreliquias.com.br/wp-content/uploads/2025/02/26-8°-Encontro-de-Carros-Antigos-em-Ararica-RS.png
END:VEVENT
END:VCALENDAR