BEGIN:VCALENDAR
VERSION:2.0
PRODID:-//Universo Relíquias - ECPv6.15.17//NONSGML v1.0//EN
CALSCALE:GREGORIAN
METHOD:PUBLISH
X-WR-CALNAME:Universo Relíquias
X-ORIGINAL-URL:https://universoreliquias.com.br
X-WR-CALDESC:Eventos para Universo Relíquias
REFRESH-INTERVAL;VALUE=DURATION:PT1H
X-Robots-Tag:noindex
X-PUBLISHED-TTL:PT1H
BEGIN:VTIMEZONE
TZID:America/Sao_Paulo
BEGIN:STANDARD
TZOFFSETFROM:-0300
TZOFFSETTO:-0300
TZNAME:-03
DTSTART:20240101T000000
END:STANDARD
END:VTIMEZONE
BEGIN:VEVENT
DTSTART;TZID=America/Sao_Paulo:20250829T080000
DTEND;TZID=America/Sao_Paulo:20250831T170000
DTSTAMP:20260420T224806
CREATED:20250219T180846Z
LAST-MODIFIED:20250219T180846Z
UID:2187-1756454400-1756659600@universoreliquias.com.br
SUMMARY:9° Encontro de Veículos Antigos em Jaraguá do Sul - SC
DESCRIPTION:9° Encontro de Veículos Antigos em Jaraguá do Sul – SC\nNos dias 29\, 30 e 31 de Agosto de 2025\, Jaraguá do Sul irá sediar o 9° Encontro de Veículos Antigos.\nE o evento contará com muitas atrações\, sendo elas Premiação para os Veículos em exposição\, Festival de Cervejas\, Food Trucks\, Bandas\, Mercado de Pulgas\, espaço Kids e muito mais!!!\nJá reserve a data na sua agenda!!! Uma promoção Autos e Clássicos do Vale! \n#autoseclassicosdovale #carrosantigos #clubedecarrosantigos #jaraguadosul #carrosdecolecionadores #carrosdecolecao #antigomobilismo #fbva #santacatarina
URL:https://universoreliquias.com.br/evento/9-encontro-de-veiculos-antigos-em-jaragua-do-sul-sc/
LOCATION:Parque Municipal de Eventos – Jaraguá do Sul – SC\, Rua Walter Marquardt\, 910 - Barra do Rio Molha\, Jaraguá do Sul\, SC\, 89259565\, Brazil
CATEGORIES:Colecionismo e Miniaturas,Mercado de Pulgas,Numismática,Veículos Antigos,Vinil
ATTACH;FMTTYPE=image/png:https://universoreliquias.com.br/wp-content/uploads/2025/02/29-a-31-9°-Encontro-de-Veiculos-Antigos-em-Jaragua-do-Sul-SC.png
END:VEVENT
END:VCALENDAR