BEGIN:VCALENDAR
VERSION:2.0
PRODID:-//Universo Relíquias - ECPv6.15.17//NONSGML v1.0//EN
CALSCALE:GREGORIAN
METHOD:PUBLISH
X-WR-CALNAME:Universo Relíquias
X-ORIGINAL-URL:https://universoreliquias.com.br
X-WR-CALDESC:Eventos para Universo Relíquias
REFRESH-INTERVAL;VALUE=DURATION:PT1H
X-Robots-Tag:noindex
X-PUBLISHED-TTL:PT1H
BEGIN:VTIMEZONE
TZID:America/Sao_Paulo
BEGIN:STANDARD
TZOFFSETFROM:-0300
TZOFFSETTO:-0300
TZNAME:-03
DTSTART:20240101T000000
END:STANDARD
END:VTIMEZONE
BEGIN:VEVENT
DTSTART;TZID=America/Sao_Paulo:20250406T090000
DTEND;TZID=America/Sao_Paulo:20250406T150000
DTSTAMP:20260422T192340
CREATED:20250212T232706Z
LAST-MODIFIED:20250212T232706Z
UID:1843-1743930000-1743951600@universoreliquias.com.br
SUMMARY:Domingo Retrô - Encontro de Carros em Rio Claro - SP
DESCRIPTION:Domingo Retrô – Encontro de Carros em Rio Claro – SP\nLocal : Lago Azul Rio Claro\nPróximo a Torre Eiffel entrada pela avenida 32.\nComemorando 37 anos do Antigo Auto Clube de Rio Claro.\nBandas – Food Trucks – Diversas Atrações – Espaço Kids – Mercado de Pulgas.
URL:https://universoreliquias.com.br/evento/domingo-retro-encontro-de-carros-em-rio-claro-sp/
LOCATION:Lago Azul – Rio Claro – SP\, Av. 32 - Vila Aparecida\, Rio Claro\, SP\, 13500550\, Brazil
CATEGORIES:Mercado de Pulgas,Veículos Antigos
ATTACH;FMTTYPE=image/png:https://universoreliquias.com.br/wp-content/uploads/2025/02/6-Domingo-Retro-Encontro-de-Carros-em-Rio-Claro-SP.png
END:VEVENT
END:VCALENDAR