BEGIN:VCALENDAR
VERSION:2.0
PRODID:-//Universo Relíquias - ECPv6.15.17//NONSGML v1.0//EN
CALSCALE:GREGORIAN
METHOD:PUBLISH
X-WR-CALNAME:Universo Relíquias
X-ORIGINAL-URL:https://universoreliquias.com.br
X-WR-CALDESC:Eventos para Universo Relíquias
REFRESH-INTERVAL;VALUE=DURATION:PT1H
X-Robots-Tag:noindex
X-PUBLISHED-TTL:PT1H
BEGIN:VTIMEZONE
TZID:America/Sao_Paulo
BEGIN:STANDARD
TZOFFSETFROM:-0300
TZOFFSETTO:-0300
TZNAME:-03
DTSTART:20240101T000000
END:STANDARD
END:VTIMEZONE
BEGIN:VEVENT
DTSTART;VALUE=DATE:20250404
DTEND;VALUE=DATE:20250407
DTSTAMP:20260422T124913
CREATED:20250212T180033Z
LAST-MODIFIED:20250212T180033Z
UID:1794-1743724800-1743983999@universoreliquias.com.br
SUMMARY:Encontro Internacional de Veículos Antigos em Iraí - RS
DESCRIPTION:🚗✨Encontro Internacional de Veículos Antigos em Iraí – RS\n\nNos dias 4\, 5 e 6 de abril\, prepare-se para uma viagem no tempo! \nVenha curtir de perto verdadeiras relíquias automobilísticas no Encontro Internacional de Carros Antigos! \nO evento marcará a celebração dos 10 anos de fotoshow eventos. \nNo último dia do evento\, teremos o sorteio de uma Kombi incrível! \nIsso mesmo\, você pode levar essa lenda para casa! \nO sorteio é exclusivo para os expositores do evento. \n🚘 Exposição\, cultura e paixão em um só lugar!\nNão perca a chance de ver de perto carros históricos\, compartilhar histórias e viver momentos inesquecíveis. \n📸 Marque sua galera e venha fazer parte dessa história! \n#EncontroDeCarrosAntigos #KombiSorteio #CarrosClássicos #PaixãoAutomobilística #EventoImperdível
URL:https://universoreliquias.com.br/evento/encontro-internacional-de-veiculos-antigos-em-irai-rs/
LOCATION:Iraí – RS\, Irai - RS\, Iraí\, RS\, 98460-000\, Brazil
CATEGORIES:Veículos Antigos
ATTACH;FMTTYPE=image/png:https://universoreliquias.com.br/wp-content/uploads/2025/02/4-a-6-Encontro-Internacional-de-Veiculos-Antigos-em-Irai-RS.png
END:VEVENT
END:VCALENDAR