BEGIN:VCALENDAR
VERSION:2.0
PRODID:-//Universo Relíquias - ECPv6.15.17//NONSGML v1.0//EN
CALSCALE:GREGORIAN
METHOD:PUBLISH
X-WR-CALNAME:Universo Relíquias
X-ORIGINAL-URL:https://universoreliquias.com.br
X-WR-CALDESC:Eventos para Universo Relíquias
REFRESH-INTERVAL;VALUE=DURATION:PT1H
X-Robots-Tag:noindex
X-PUBLISHED-TTL:PT1H
BEGIN:VTIMEZONE
TZID:America/Sao_Paulo
BEGIN:STANDARD
TZOFFSETFROM:-0300
TZOFFSETTO:-0300
TZNAME:-03
DTSTART:20240101T000000
END:STANDARD
END:VTIMEZONE
BEGIN:VEVENT
DTSTART;VALUE=DATE:20250711
DTEND;VALUE=DATE:20250714
DTSTAMP:20260423T123919
CREATED:20250109T162805Z
LAST-MODIFIED:20250411T211552Z
UID:1073-1752192000-1752451199@universoreliquias.com.br
SUMMARY:XIII Santa Catarina Custom Show United Kustom Kulture of Latin America
DESCRIPTION:XIII SANTA CATARINA CUSTOM SHOW🔥\nUnited Kustom Kulture of Latin America🇧🇷\nMovidos pela paixão por veículos clássicos e pela #KulturaKustom\, milhares de entusiastas embarcam anualmente em uma jornada memorável rumo ao #SantaCatarinaCustomShow\, em Balneário Camboriú/SC.\nAqui\, pessoas de todas as idades\, classes sociais\, famílias\, amigos\, artistas de diversos segmentos\, proprietários e admiradores de veículos custom pulsam seus corações no mesmo ritmo e homenageiam juntos a história do antigomobilismo.\nDirigindo seus projetos e enfrentando quilômetros de estrada sob qualquer clima\, visitantes de diferentes países e idiomas passam a falar a mesma língua\, compartilhando das mesmas paixões e de momentos inesquecíveis\, que fortalecem e criam novos laços de amizade e família.\nE todos os detalhes do #SCCS são cuidadosamente planejados para que cada visitante sinta-se bem-vindo e imerso em um apurado ambiente\, com boa música\, gastronomia\, expositores de alto nível e um Expocentro moderno e confortável\, na fantástica cidade de Balneário Camboriú\, localizada no litoral norte do Estado de Santa (e Bela!) Catarina.\nJunte-se a nós e faça parte dessa celebração única e emocionante\, no maior evento latino-americano da Kultura Kustom!\nXIII Santa Catarina Custom Show\nUnited Kustom Kulture of Latin America\n📌11\, 12 e 13 de julho/2025\n📍No Expocentro Balneário Camboriú/SC🇧🇷\nRealização: @huelsmannmetalworks\n🕰️Sexta: 14h às 22h\nSábado: 9h às 22h\nDomingo: 9h às 18h\nConfira vídeos do evento:\n\n   \n\n\n\n\n\n\n\n\n\n\nView this post on Instagram\n\n\n\n\n\n\n\n\n\n\n\n\n\n\n\n\n\n\n\n\n\n\n \nA post shared by XIII Santa Catarina Custom Show (@sccustomshow) \n\n\n \n\n   \n\n\n\n\n\n\n\n\n\n\nView this post on Instagram\n\n\n\n\n\n\n\n\n\n\n\n\n\n\n\n\n\n\n\n\n\n\n \nA post shared by XIII Santa Catarina Custom Show (@sccustomshow)
URL:https://universoreliquias.com.br/evento/xiii-santa-catarina-custom-show-united-kustom-kulture-of-latin-america/
LOCATION:Expocentro Balneário Camboriú\, Av. Marginal Oeste - Nova Esperança.\, Balneário Camboriú\, SC\, 88332050\, Brazil
CATEGORIES:Colecionismo e Miniaturas,Mercado de Pulgas,Numismática,Veículos Antigos,Vinil
ATTACH;FMTTYPE=image/png:https://universoreliquias.com.br/wp-content/uploads/2025/01/11-a-13-XIII-Santa-Catarina-Custom-Show-em-Balneario-Camboriu-SC.png
END:VEVENT
END:VCALENDAR