BEGIN:VCALENDAR
VERSION:2.0
PRODID:-//Universo Relíquias - ECPv6.15.17//NONSGML v1.0//EN
CALSCALE:GREGORIAN
METHOD:PUBLISH
X-WR-CALNAME:Universo Relíquias
X-ORIGINAL-URL:https://universoreliquias.com.br
X-WR-CALDESC:Eventos para Universo Relíquias
REFRESH-INTERVAL;VALUE=DURATION:PT1H
X-Robots-Tag:noindex
X-PUBLISHED-TTL:PT1H
BEGIN:VTIMEZONE
TZID:America/Sao_Paulo
BEGIN:STANDARD
TZOFFSETFROM:-0300
TZOFFSETTO:-0300
TZNAME:-03
DTSTART:20240101T000000
END:STANDARD
END:VTIMEZONE
BEGIN:VEVENT
DTSTART;TZID=America/Sao_Paulo:20250406T080000
DTEND;TZID=America/Sao_Paulo:20250406T170000
DTSTAMP:20260423T005043
CREATED:20250212T234234Z
LAST-MODIFIED:20250212T234234Z
UID:10000071-1743926400-1743958800@universoreliquias.com.br
SUMMARY:VIII Encontro de Carros Antigos em Remígio - PB
DESCRIPTION:O VIII Encontro de Carros Antigos em Remígio promete ser um evento imperdível para os amantes de automóveis clássicos e da cultura automobilística. Acontecendo em um ambiente acolhedor e repleto de história\, o encontro reunirá veículos de diversas épocas\, desde modelos raros até os mais icônicos\, todos exibindo suas características únicas e charme vintage. \nOs visitantes poderão apreciar a beleza dos carros\, interagir com colecionadores apaixonados e participar de atividades relacionadas\, como palestras educacionais e muito mais. Além disso\, o evento contará com muita comida e música ao vivo\, criando uma atmosfera festiva para toda a família. \nNão perca a chance de reviver memórias e celebrar a paixão por carros antigos com outros entusiastas! Venha se surpreender com a variedade e a história que cada veículo traz\, e aproveite um dia cheio de diversão e nostalgia em Remígio. \n#carros #carrosantigos #festa #PRF
URL:https://universoreliquias.com.br/evento/viii-encontro-de-carros-antigos-em-remigio-pb/
LOCATION:Lagoa parque Remígio – PB\, Av. Joaquim Cavalcante\, 361-629\, Remígio\, PB\, 58398000\, Brazil
CATEGORIES:Veículos Antigos
ATTACH;FMTTYPE=image/png:https://universoreliquias.com.br/wp-content/uploads/2025/02/6-VIII-Encontro-de-Carros-Antigos-em-Remigio-PB.png
END:VEVENT
END:VCALENDAR