BEGIN:VCALENDAR
VERSION:2.0
PRODID:-//Universo Relíquias - ECPv6.15.17//NONSGML v1.0//EN
CALSCALE:GREGORIAN
METHOD:PUBLISH
X-WR-CALNAME:Universo Relíquias
X-ORIGINAL-URL:https://universoreliquias.com.br
X-WR-CALDESC:Eventos para Universo Relíquias
REFRESH-INTERVAL;VALUE=DURATION:PT1H
X-Robots-Tag:noindex
X-PUBLISHED-TTL:PT1H
BEGIN:VTIMEZONE
TZID:America/Sao_Paulo
BEGIN:STANDARD
TZOFFSETFROM:-0300
TZOFFSETTO:-0300
TZNAME:-03
DTSTART:20240101T000000
END:STANDARD
END:VTIMEZONE
BEGIN:VEVENT
DTSTART;TZID=America/Sao_Paulo:20250405T100000
DTEND;TZID=America/Sao_Paulo:20250405T170000
DTSTAMP:20260422T175500
CREATED:20250212T221008Z
LAST-MODIFIED:20250212T221130Z
UID:10000067-1743847200-1743872400@universoreliquias.com.br
SUMMARY:Encontro de Carros Antigos em Cordilheira Alta - SC
DESCRIPTION:Encontro de Carros Antigos em Cordilheira Alta – SC \nTroféu de partipação para os 120 primeiros inscritos. \nInscrição 1kg de alimento não perecível \nEntrada Franca.
URL:https://universoreliquias.com.br/evento/encontro-de-carros-antigos-em-cordilheira-alta-rs/
LOCATION:Praça Afonso Berté – Cordilheira Alta – SC\, Av. Fermino Tozzo\, Cordilheira Alta\, SC\, 89819000\, Brazil
CATEGORIES:Veículos Antigos
ATTACH;FMTTYPE=image/png:https://universoreliquias.com.br/wp-content/uploads/2025/02/5-Encontro-de-Carros-Antigos-em-Cordilheira-Alta-RS.png
END:VEVENT
END:VCALENDAR