BEGIN:VCALENDAR
VERSION:2.0
PRODID:-//Universo Relíquias - ECPv6.15.17//NONSGML v1.0//EN
CALSCALE:GREGORIAN
METHOD:PUBLISH
X-WR-CALNAME:Universo Relíquias
X-ORIGINAL-URL:https://universoreliquias.com.br
X-WR-CALDESC:Eventos para Universo Relíquias
REFRESH-INTERVAL;VALUE=DURATION:PT1H
X-Robots-Tag:noindex
X-PUBLISHED-TTL:PT1H
BEGIN:VTIMEZONE
TZID:America/Sao_Paulo
BEGIN:STANDARD
TZOFFSETFROM:-0300
TZOFFSETTO:-0300
TZNAME:-03
DTSTART:20240101T000000
END:STANDARD
END:VTIMEZONE
BEGIN:VEVENT
DTSTART;TZID=America/Sao_Paulo:20250704T090000
DTEND;TZID=America/Sao_Paulo:20250706T170000
DTSTAMP:20260423T212213
CREATED:20250218T225208Z
LAST-MODIFIED:20250218T225208Z
UID:10000104-1751619600-1751821200@universoreliquias.com.br
SUMMARY:6° Encontro de Veículos Antigos em Miracema - RJ
DESCRIPTION:Vem aí o 6° Encontro de Carros Antigos de Miracema -RJ\nData: 04\,05\,06 de Julho  de 2025 \nUma super programação está sendo montada para tornar Miracema\, a capital do Antigomobilismo. \nVocê não pode ficar de fora dessa\, reserve já essa data e venha viver esse momento com a gente. \nMaiores informações: Paulo Poiani 22-992374530\nLocal: Praça Dona Ermelinda – Miracema – RJ
URL:https://universoreliquias.com.br/evento/6-encontro-de-veiculos-antigos-em-miracema-rj/
LOCATION:Praça Dona Ermelinda – Miracema – RJ\, Praça Dona Ermelinda\, Miracema\, RJ\, 28460000\, Brazil
CATEGORIES:Veículos Antigos
ATTACH;FMTTYPE=image/png:https://universoreliquias.com.br/wp-content/uploads/2025/02/4-a-6-6°-Encontro-de-Veiculos-Antigos-em-Miracema-RJ.png
END:VEVENT
END:VCALENDAR