BEGIN:VCALENDAR
VERSION:2.0
PRODID:-//Universo Relíquias - ECPv6.15.17//NONSGML v1.0//EN
CALSCALE:GREGORIAN
METHOD:PUBLISH
X-WR-CALNAME:Universo Relíquias
X-ORIGINAL-URL:https://universoreliquias.com.br
X-WR-CALDESC:Eventos para Universo Relíquias
REFRESH-INTERVAL;VALUE=DURATION:PT1H
X-Robots-Tag:noindex
X-PUBLISHED-TTL:PT1H
BEGIN:VTIMEZONE
TZID:America/Sao_Paulo
BEGIN:STANDARD
TZOFFSETFROM:-0300
TZOFFSETTO:-0300
TZNAME:-03
DTSTART:20240101T000000
END:STANDARD
END:VTIMEZONE
BEGIN:VEVENT
DTSTART;TZID=America/Sao_Paulo:20250405T080000
DTEND;TZID=America/Sao_Paulo:20250406T170000
DTSTAMP:20260422T192208
CREATED:20250212T215312Z
LAST-MODIFIED:20250212T215410Z
UID:10000066-1743840000-1743958800@universoreliquias.com.br
SUMMARY:10° Encontro Internacional de veículos em Bagé - RS
DESCRIPTION:10° Encontro Internacional de veículos em Bagé – RS \nClássicos Bagé o Clube de carros antigos da fronteira\n🗓️ Data 5 e 6 de abril 2025\n📍Bage RS\n🚘 encontro para carros antigos\n#class_bage
URL:https://universoreliquias.com.br/evento/10-encontro-internacional-de-veiculos-em-bage-rs/
LOCATION:Praça da Estação – Bagé- RS\, R. Gen. João Téles\, 1156 - Centro\, Bagé\, RS\, 96400030\, Brazil
CATEGORIES:Veículos Antigos
ATTACH;FMTTYPE=image/png:https://universoreliquias.com.br/wp-content/uploads/2025/02/5-a-6-Abril-10°-Encontro-Internacional-de-veiculos-em-Bage-RS.png
END:VEVENT
END:VCALENDAR