BEGIN:VCALENDAR
VERSION:2.0
PRODID:-//Universo Relíquias - ECPv6.15.17//NONSGML v1.0//EN
CALSCALE:GREGORIAN
METHOD:PUBLISH
X-ORIGINAL-URL:https://universoreliquias.com.br
X-WR-CALDESC:Eventos para Universo Relíquias
REFRESH-INTERVAL;VALUE=DURATION:PT1H
X-Robots-Tag:noindex
X-PUBLISHED-TTL:PT1H
BEGIN:VTIMEZONE
TZID:America/Sao_Paulo
BEGIN:STANDARD
TZOFFSETFROM:-0300
TZOFFSETTO:-0300
TZNAME:-03
DTSTART:20240101T000000
END:STANDARD
END:VTIMEZONE
BEGIN:VEVENT
DTSTART;VALUE=DATE:20250713
DTEND;VALUE=DATE:20250714
DTSTAMP:20260423T131646
CREATED:20250109T163442Z
LAST-MODIFIED:20250218T134555Z
UID:10000034-1752364800-1752451199@universoreliquias.com.br
SUMMARY:6° Encontro de Antigomobilismo de Prados\, MG
DESCRIPTION:6° Encontro de Antigomobilismo de Prado – MG. \nE já temos data para nosso próximo Encontro… Até breve 😜
URL:https://universoreliquias.com.br/evento/6-encontro-de-antigomobilismo-de-prados-mg/
LOCATION:Parque de Exposições Prefeito Gastão de Azevedo Cardoso\, Pinheiro Chagas\, Prados\, MG\, 3620000\, Brazil
CATEGORIES:Veículos Antigos
ATTACH;FMTTYPE=image/png:https://universoreliquias.com.br/wp-content/uploads/2025/01/13-6°-Encontro-de-Antigomobilismo-de-Prados-em-Prados-MG-1.png
ORGANIZER;CN="Clube do carro antigo de Prados":MAILTO:gilmar.fuh@hotmail.com
END:VEVENT
END:VCALENDAR