BEGIN:VCALENDAR
VERSION:2.0
PRODID:-//Universo Relíquias - ECPv6.15.17//NONSGML v1.0//EN
CALSCALE:GREGORIAN
METHOD:PUBLISH
X-WR-CALNAME:Universo Relíquias
X-ORIGINAL-URL:https://universoreliquias.com.br
X-WR-CALDESC:Eventos para Universo Relíquias
REFRESH-INTERVAL;VALUE=DURATION:PT1H
X-Robots-Tag:noindex
X-PUBLISHED-TTL:PT1H
BEGIN:VTIMEZONE
TZID:America/Sao_Paulo
BEGIN:STANDARD
TZOFFSETFROM:-0300
TZOFFSETTO:-0300
TZNAME:-03
DTSTART:20240101T000000
END:STANDARD
END:VTIMEZONE
BEGIN:VEVENT
DTSTART;TZID=America/Sao_Paulo:20250109T080000
DTEND;TZID=America/Sao_Paulo:20250109T170000
DTSTAMP:20260419T094538
CREATED:20250109T155430Z
LAST-MODIFIED:20250109T155430Z
UID:10000031-1736409600-1736442000@universoreliquias.com.br
SUMMARY:10º Encontro Brasileiro de Autos Antigos Águas de Lindóia - SP
DESCRIPTION:Cidade: Águas de Lindóia\, SP\nTel.: (11)99701-4237 / (11)97277-2233 / (19)99749-5779\nContatos : https://www.instagram.com/ebaa_aguas/
URL:https://universoreliquias.com.br/evento/10o-encontro-brasileiro-de-autos-antigos-aguas-de-lindoia-sp/
LOCATION:Praça Adhemar de Barros\, Praça Adhemar de Barros - Centro\, Águas de Lindóia\, SP\, 13940-000\, Brazil
CATEGORIES:Veículos Antigos
ATTACH;FMTTYPE=image/png:https://universoreliquias.com.br/wp-content/uploads/2025/01/19-a-22-10°-Encontro-Brasileiro-de-Autos-Antigos-em-Aguas-de-Lindoia-SP.png
END:VEVENT
END:VCALENDAR