BEGIN:VCALENDAR
VERSION:2.0
PRODID:-//Universo Relíquias - ECPv6.15.17//NONSGML v1.0//EN
CALSCALE:GREGORIAN
METHOD:PUBLISH
X-WR-CALNAME:Universo Relíquias
X-ORIGINAL-URL:https://universoreliquias.com.br
X-WR-CALDESC:Eventos para Universo Relíquias
REFRESH-INTERVAL;VALUE=DURATION:PT1H
X-Robots-Tag:noindex
X-PUBLISHED-TTL:PT1H
BEGIN:VTIMEZONE
TZID:America/Sao_Paulo
BEGIN:STANDARD
TZOFFSETFROM:-0300
TZOFFSETTO:-0300
TZNAME:-03
DTSTART:20240101T000000
END:STANDARD
END:VTIMEZONE
BEGIN:VEVENT
DTSTART;TZID=America/Sao_Paulo:20250119T080000
DTEND;TZID=America/Sao_Paulo:20250119T230000
DTSTAMP:20260421T084227
CREATED:20241221T104534Z
LAST-MODIFIED:20241221T104534Z
UID:10000007-1737273600-1737327600@universoreliquias.com.br
SUMMARY:3º Lagoa Volks - Encontro de Carros Antigos
DESCRIPTION:Vem ai! O 3° LAGOA VOLKS! \nUm dos maiores encontros de carros antigos do sul do estado! Mais de 300 veículos em exposição na edição anterior.\nVenha com seu veículo antigo curtir um dia de sol e praia com sua família e amigos.\nA inscrição para veículos expositores é R$15\,00.\nSom ambiente com músicas de época em discos de vinil com DJ Fabiano.\nSorteios de brindes e muito mais!
URL:https://universoreliquias.com.br/evento/3o-lagoa-volks-encontro-de-carros-antigos/
LOCATION:Praia da Barrinha\, Av. Getúlio Vargas\, 1801-1925\, São Lourenço do Sul\, Rio Grande do Sul\, 96170-000\, Brazil
CATEGORIES:Veículos Antigos
ATTACH;FMTTYPE=image/jpeg:https://universoreliquias.com.br/wp-content/uploads/2024/12/image-1-1024x1024-1.jpg
END:VEVENT
END:VCALENDAR