BEGIN:VCALENDAR
VERSION:2.0
PRODID:-//Universo Relíquias - ECPv6.15.17//NONSGML v1.0//EN
CALSCALE:GREGORIAN
METHOD:PUBLISH
X-WR-CALNAME:Universo Relíquias
X-ORIGINAL-URL:https://universoreliquias.com.br
X-WR-CALDESC:Eventos para Universo Relíquias
REFRESH-INTERVAL;VALUE=DURATION:PT1H
X-Robots-Tag:noindex
X-PUBLISHED-TTL:PT1H
BEGIN:VTIMEZONE
TZID:America/Sao_Paulo
BEGIN:STANDARD
TZOFFSETFROM:-0300
TZOFFSETTO:-0300
TZNAME:-03
DTSTART:20240101T000000
END:STANDARD
END:VTIMEZONE
BEGIN:VEVENT
DTSTART;VALUE=DATE:20250711
DTEND;VALUE=DATE:20250713
DTSTAMP:20260423T193700
CREATED:20250109T162335Z
LAST-MODIFIED:20250218T133353Z
UID:10000032-1752192000-1752364799@universoreliquias.com.br
SUMMARY:XII Rally dos Vinhedos Bento Gonçalves - RS
DESCRIPTION:XII Rally dos Vinhedos Bento Gonçalves – RS\nRally dos Vinhedos.\nO maior Passeio cronometrado de Clássicos do Antigo-mobilismo na Serra Gaúcha.\nO evento esse ano acontecerá nos dias 11 e 12 de Julho\, na linda Serra Gaúcha.
URL:https://universoreliquias.com.br/evento/xii-rally-dos-vinhedos-bento-goncalves-rs/
LOCATION:Rally dos Vinhedos\, R. Júlio Ghelen\, 226\, Bento Gonçalves\, RS\, 95700000\, Brazil
CATEGORIES:Veículos Antigos
ATTACH;FMTTYPE=image/png:https://universoreliquias.com.br/wp-content/uploads/2025/01/11-a-12-XII-Rally-dos-Vinhedos-em-Bento-Goncalves-RS.png
END:VEVENT
END:VCALENDAR