BEGIN:VCALENDAR
VERSION:2.0
PRODID:-//Universo Relíquias - ECPv6.15.17//NONSGML v1.0//EN
CALSCALE:GREGORIAN
METHOD:PUBLISH
X-ORIGINAL-URL:https://universoreliquias.com.br
X-WR-CALDESC:Eventos para Universo Relíquias
REFRESH-INTERVAL;VALUE=DURATION:PT1H
X-Robots-Tag:noindex
X-PUBLISHED-TTL:PT1H
BEGIN:VTIMEZONE
TZID:America/Sao_Paulo
BEGIN:STANDARD
TZOFFSETFROM:-0300
TZOFFSETTO:-0300
TZNAME:-03
DTSTART:20240101T000000
END:STANDARD
END:VTIMEZONE
BEGIN:VEVENT
DTSTART;TZID=America/Sao_Paulo:20250706T090000
DTEND;TZID=America/Sao_Paulo:20250706T170000
DTSTAMP:20260423T180622
CREATED:20250218T235819Z
LAST-MODIFIED:20250519T185430Z
UID:10000108-1751792400-1751821200@universoreliquias.com.br
SUMMARY:10° Exposição de Carros Antigos em Alvinópolis - MG
DESCRIPTION:10° Exposição de Carros Antigos em Alvinópolis – MG \nData: 06 de julho de 2025 \nLocal: Praça São Sebastião – Alvinópolis – MG \nAos participantes cadastrados previamente\, será fornecido um certificado e uma bela tigela de canja para espantar o frio. \nConfirme sua presença! \nTraga um agasalho para doação. \nDoe 5kg de alimentos e ganhe um brinde. \nContatos/doações e PIX: (31) 99981-0079 \n 
URL:https://universoreliquias.com.br/evento/10-exposicao-de-carros-antigos-em-alvinopolis-mg/
LOCATION:Praça São Sebastião – Alvinópolis – MG\, Alvinópolis - MG\, Alvinópolis\, MG\, 35950000\, Brazil
CATEGORIES:Veículos Antigos
ATTACH;FMTTYPE=image/jpeg:https://universoreliquias.com.br/wp-content/uploads/2025/02/IMG-20250519-WA0304.jpg
END:VEVENT
END:VCALENDAR