BEGIN:VCALENDAR
VERSION:2.0
PRODID:-//Universo Relíquias - ECPv6.15.17//NONSGML v1.0//EN
CALSCALE:GREGORIAN
METHOD:PUBLISH
X-ORIGINAL-URL:https://universoreliquias.com.br
X-WR-CALDESC:Eventos para Universo Relíquias
REFRESH-INTERVAL;VALUE=DURATION:PT1H
X-Robots-Tag:noindex
X-PUBLISHED-TTL:PT1H
BEGIN:VTIMEZONE
TZID:America/Sao_Paulo
BEGIN:STANDARD
TZOFFSETFROM:-0300
TZOFFSETTO:-0300
TZNAME:-03
DTSTART:20240101T000000
END:STANDARD
END:VTIMEZONE
BEGIN:VEVENT
DTSTART;VALUE=DATE:20250207
DTEND;VALUE=DATE:20250210
DTSTAMP:20260419T122007
CREATED:20241221T232101Z
LAST-MODIFIED:20250211T205441Z
UID:10000010-1738886400-1739145599@universoreliquias.com.br
SUMMARY:5º Encontro de Veículos Antigos do Xerife
DESCRIPTION:O 5° Encontro de Veículos Antigos do Xerife acontece entre os dias 7 e 9 de fevereiro na Praia de Porto Velho\, em Anchieta\, Espírito Santo. \nOs interessados podem obter mais informações pelo telefone (27) 99889-1001 ou através do Facebook TV Nova Opção.
URL:https://universoreliquias.com.br/evento/5o-encontro-de-veiculos-antigos-do-xerife/
LOCATION:Praia de Porto Velho\, Avenida Porto Velho 305\, Anchieta\, Espirito Santo\, 29230-000\, Brazil
CATEGORIES:Veículos Antigos
ATTACH;FMTTYPE=image/jpeg:https://universoreliquias.com.br/wp-content/uploads/2024/12/7-a-9-5°-Encontro-de-Veiculos-Antigos-do-Xerife-em-Anchieta-ES.jpg
END:VEVENT
END:VCALENDAR